BEGIN:VCALENDAR
VERSION:2.0
PRODID:-//360 Alumni//Arkansas Colleges of Health Education//EN
METHOD:REQUEST
BEGIN:VEVENT
UID:10838
DTSTAMP:20240921T233000Z
DTSTART:20240921T233000Z
DTEND:20240922T010000Z
LOCATION:Casa Rio
SUMMARY: OMED Alumni Dinner
DESCRIPTION: Join us for a river cruise fiesta in San Antonio on Saturday, September 21st from 6:30-8:00 p.m.&nbsp;&nbsp;
END:VEVENT
END:VCALENDAR
