BEGIN:VCALENDAR
VERSION:2.0
PRODID:-//360 Alumni//Arkansas Colleges of Health Education//EN
METHOD:REQUEST
BEGIN:VEVENT
UID:10842
DTSTAMP:20250301T233000Z
DTSTART:20250301T233000Z
DTEND:20250302T050000Z
LOCATION:ACHE Research Institute Health and Wellness Center
SUMMARY: On Call Gala
DESCRIPTION: The third installment of this elevated black-tie event will encompass a lavish dinner, captivating entertainment, and an opportunity to dance and mingle, while providing support to the Arkansas Colleges of Health Education.&nbsp; The event aims to raise funds for scholarships to help our students through medical school to enhance health and wellness in our community and beyond.&nbsp;
END:VEVENT
END:VCALENDAR
