BEGIN:VCALENDAR
VERSION:2.0
PRODID:-//360 Alumni//Arkansas Colleges of Health Education//EN
METHOD:REQUEST
BEGIN:VEVENT
UID:11021
DTSTAMP:20241119T233000Z
DTSTART:20241119T233000Z
DTEND:20241120T010000Z
LOCATION:Samantha's Tap Room
SUMMARY: Ask an Alum
DESCRIPTION: Join us for our first Ask an Alum event in Little Rock.&nbsp; It will be a great time to network with other  alumni and speak of your experience at ACHE with prospective students.
END:VEVENT
END:VCALENDAR
