BEGIN:VCALENDAR
VERSION:2.0
PRODID:-//360 Alumni//Arkansas Colleges of Health Education//EN
METHOD:REQUEST
BEGIN:VEVENT
UID:11535
DTSTAMP:20260228T233000Z
DTSTART:20260228T233000Z
DTEND:20260301T050000Z
LOCATION:ACHE Research Institute Health & Wellness Center
SUMMARY: On Call Gala
DESCRIPTION: Please join us for the fourth edition of the On Call Gala.&nbsp; This distinguished black-tie affair will feature an elegant dinner, dynamic entertainment, and plenty of time to dance and connect.&nbsp; Guests will also be part of advancing the mission of Arkansas Colleges of Health Education, as proceeds benefit scholarships that support students on their journey through medical school - ultimately strengthening health and wellness in our community and beyond.
END:VEVENT
END:VCALENDAR
